BEGIN:VCALENDAR
VERSION:2.0
PRODID:-//AudioTheme 3.0.2
BEGIN:VEVENT
UID:urn:uuid:f07e2dec-8481-42d3-b2bf-bb9fb49366a4
URL:https://jazz-sur-le-giffre.com/shows/piano-bar-aux-residences-laska-aux-contamines-montjoie/
DTSTART;TZID=GMT:20260312T173000
SUMMARY:Piano Bar aux Résidences Láska aux Contamines-Montjoie
DESCRIPTION:Apéro-musical - familial suivi par 'Digby's Cocktail Hour'. Profitez du grand salon autour du piano pour une soirée intime et romantique ! 
LOCATION:Résidences Láska - MGM Hôtels & Résidences\, Chemin des Drets\, Les Contamines-Montjoie\, \, France\, 74170
END:VEVENT
END:VCALENDAR
