BEGIN:VCALENDAR
VERSION:2.0
PRODID:-//AudioTheme 3.0.2
BEGIN:VEVENT
UID:urn:uuid:18a85a4a-a548-467d-8ea6-6ff51ee3ea2c
URL:https://jazz-sur-le-giffre.com/shows/piano-bar-a-lalexane-49/
DTSTART;TZID=GMT:20260324T173000
SUMMARY:Piano-Bar aux Chalets Elena, les Houches
DESCRIPTION:Apéro-musical - familial suivi par 'Digby's Cocktail Hour'. Profitez du grand salon autour du piano pour une soirée intime et romantique !
LOCATION:Chalets Elena\, les Houches\, 152 rue de l'Essert\, Les Houches\, \, France\, 74310
END:VEVENT
END:VCALENDAR
