BEGIN:VCALENDAR
VERSION:2.0
PRODID:-//AudioTheme 3.0.2
BEGIN:VEVENT
UID:urn:uuid:f07e2dec-8481-42d3-b2bf-bb9fb49366a4
URL:https://jazz-sur-le-giffre.com/shows/piano-bar-a-hotel-residences-alhena-flaine-2/
DTSTART;TZID=GMT:20260413T163000
SUMMARY:Piano Bar à Hôtel Résidences Alhena, Flaine
DESCRIPTION:Apéro-musical - familial suivi par 'Digby's Cocktail Hour'. Profitez du grand salon autour du piano pour une soirée intime et romantique ! 
LOCATION:Hôtel Résidences Alhena\, Chef Lieu Flaine Front de Neige\, Flaine\, \, France\, 74300
END:VEVENT
END:VCALENDAR
