BEGIN:VCALENDAR
VERSION:2.0
PRODID:-//AudioTheme 3.0.2
BEGIN:VEVENT
UID:urn:uuid:18a85a4a-a548-467d-8ea6-6ff51ee3ea2c
URL:https://jazz-sur-le-giffre.com/shows/digby-fred-friends-mardi-jazz-a-lalexane-2/
DTSTART;TZID=GMT:20260203T173000
SUMMARY:Digby, Fred & Friends - Mardi-Jazz à l'Alexane
DESCRIPTION:Soirée "JAZZ-JAM à l'ALEXANE" ! - Danser\, boire\, grignoter !
LOCATION:Résidence Alexane\, 20 Avenue du Giffre\, Samoëns\, \, France\, 74340
END:VEVENT
END:VCALENDAR
